BEGIN:VCALENDAR
VERSION:2.0
PRODID:-//hacksw/handcal//NONSGML v1.0//EN
BEGIN:VEVENT
SUMMARY:TAE a Lezoux (63)
UID:7c600fed-1f51-4dce-a309-77669b351e17
DTSTART:20260523T220000Z
DTEND:20260524T220000Z
LOCATION:Localisation   
CATEGORIES:Sportif
STATUS:
DESCRIPTION:<p><a href="https://www.ffta.fr/epreuve/24098"
 target="_blank" rel="noreferrer noopener">Page FFTA</a></p>
URL;VALUE=URI:https://archersdevichy.sportsregions.fr/evenements/2026/05/24/tae-a-lezoux-63-2440251
END:VEVENT
END:VCALENDAR
