BEGIN:VCALENDAR
VERSION:2.0
PRODID:-//hacksw/handcal//NONSGML v1.0//EN
BEGIN:VEVENT
SUMMARY:TAE a Issoire (63)
UID:21ae4fb9-a18f-49cf-b74d-980d01b0fccc
DTSTART:20260606T220000Z
DTEND:20260607T220000Z
LOCATION:Localisation   
CATEGORIES:Sportif
STATUS:
DESCRIPTION:<p><a href="https://www.ffta.fr/epreuve/25132"
 target="_blank" rel="noreferrer noopener">Page FFTA</a></p>
URL;VALUE=URI:https://archersdevichy.sportsregions.fr/evenements/2026/06/07/tae-a-issoire-63-2440252
END:VEVENT
END:VCALENDAR
