BEGIN:VCALENDAR
VERSION:2.0
PRODID:-//hacksw/handcal//NONSGML v1.0//EN
BEGIN:VEVENT
SUMMARY:TAE a Riom (63)
UID:f786f03f-c3e5-4f62-ab87-f12353c1c4d9
DTSTART:20260609T220000Z
DTEND:20260610T220000Z
LOCATION:Localisation   
CATEGORIES:Sportif
STATUS:
DESCRIPTION:<p><a href="https://www.ffta.fr/epreuve/24396"
 target="_blank" rel="noreferrer noopener">Page FFTA</a></p>
URL;VALUE=URI:https://archersdevichy.sportsregions.fr/evenements/2026/06/10/tae-a-riom-63-2440253
END:VEVENT
END:VCALENDAR
