BEGIN:VCALENDAR
VERSION:2.0
PRODID:-//hacksw/handcal//NONSGML v1.0//EN
BEGIN:VEVENT
SUMMARY:3D a Chatel-Guyon (63)
UID:24fbfe98-9037-4a75-88de-5efaf10c2da5
DTSTART:20260619T220000Z
DTEND:20260621T220000Z
LOCATION:Localisation   
CATEGORIES:Sportif
STATUS:
DESCRIPTION:<p><a href="https://www.ffta.fr/epreuve/24533"
 target="_blank" rel="noreferrer noopener">Page FFTA</a></p>
URL;VALUE=URI:https://archersdevichy.sportsregions.fr/evenements/2026/06/20/3d-a-chatel-guyon-63-2440254
END:VEVENT
END:VCALENDAR
