BEGIN:VCALENDAR
VERSION:2.0
PRODID:-//hacksw/handcal//NONSGML v1.0//EN
BEGIN:VEVENT
SUMMARY:TAE a Combronde (63)
UID:fc612ed5-00b1-4a55-b4c0-788f95c7949a
DTSTART:20260626T220000Z
DTEND:20260628T220000Z
LOCATION:Localisation   
CATEGORIES:Sportif
STATUS:
DESCRIPTION:<p><a href="https://www.ffta.fr/epreuve/24628"
 target="_blank" rel="noreferrer noopener">Page FFTA</a></p>
URL;VALUE=URI:https://archersdevichy.sportsregions.fr/evenements/2026/06/27/tae-a-combronde-63-2440256
END:VEVENT
END:VCALENDAR
